BEGIN:VCALENDAR
VERSION:2.0
PRODID:-//Polarity Healthcare - ECPv6.15.20//NONSGML v1.0//EN
CALSCALE:GREGORIAN
METHOD:PUBLISH
X-WR-CALNAME:Polarity Healthcare
X-ORIGINAL-URL:https://polarityhealthcare.com
X-WR-CALDESC:Events for Polarity Healthcare
REFRESH-INTERVAL;VALUE=DURATION:PT1H
X-Robots-Tag:noindex
X-PUBLISHED-TTL:PT1H
BEGIN:VTIMEZONE
TZID:America/Detroit
BEGIN:DAYLIGHT
TZOFFSETFROM:-0500
TZOFFSETTO:-0400
TZNAME:EDT
DTSTART:20180311T070000
END:DAYLIGHT
BEGIN:STANDARD
TZOFFSETFROM:-0400
TZOFFSETTO:-0500
TZNAME:EST
DTSTART:20181104T060000
END:STANDARD
BEGIN:DAYLIGHT
TZOFFSETFROM:-0500
TZOFFSETTO:-0400
TZNAME:EDT
DTSTART:20190310T070000
END:DAYLIGHT
BEGIN:STANDARD
TZOFFSETFROM:-0400
TZOFFSETTO:-0500
TZNAME:EST
DTSTART:20191103T060000
END:STANDARD
BEGIN:DAYLIGHT
TZOFFSETFROM:-0500
TZOFFSETTO:-0400
TZNAME:EDT
DTSTART:20200308T070000
END:DAYLIGHT
BEGIN:STANDARD
TZOFFSETFROM:-0400
TZOFFSETTO:-0500
TZNAME:EST
DTSTART:20201101T060000
END:STANDARD
END:VTIMEZONE
BEGIN:VEVENT
DTSTART;TZID=America/Detroit:20190531T083000
DTEND;TZID=America/Detroit:20190531T173000
DTSTAMP:20260420T115817
CREATED:20181111T020136Z
LAST-MODIFIED:20190526T163059Z
UID:1994-1559291400-1559323800@polarityhealthcare.com
SUMMARY:Integrative Massage Therapy
DESCRIPTION:Description:\nIntegrative Massage Therapy is a one-day\, intensive introduction to holistic massage practice. The integrative massage session can draw from neuromuscular therapy\, myofascial release\, and many other modalities. This class will help you successfully blend techniques and treatment methods by focusing on basic concepts and mechanisms underlying each approach. In this seminar\, we will study key principles from Chinese medicine\, applied kinesiology and myofascial release. Then we will discuss how best to incorporate those principles into a cohesive and effective\, science-based bodywork session. Anyone wanting to develop a more holistic practice\, or simply to expand their own understanding and skill level\, will benefit from studying Integrative Massage Therapy in Orlando\, Florida. \nHighlights:\n\nLearn the benefits of an integrative approach to massage therapy\nPractice methods of integrative assessment\nPractice integrative treatment techniques\nStudy the mechanisms of different bodywork techniques and how they overlap\nDiscuss the relationship of motor points\, trigger points and acupuncture points\nPractice a refined version of manual resistive muscle testing\nDiscuss the role of energy in manual therapy\nStudy the pivotal role of fascia in assessment and treatment\n\nWhat participants have to say! \nBring:\nSomething to write with. Dress comfortably and in layers. Clothes to be able to expose your arms and your back. \nContinuing Education: 8 CE hours\n\nNCBTMB certified bodyworkers and LMT’s in states that accept NCBTMB approval\nFlorida Massage Therapists (CE Broker Tracking #: 20-591501)\n\nRegistration:\nEarly registration & discounted fee available until May 17 – THERE IS STILL ROOM IN THIS CLASS!\n \nAlternative methods of signing up:\nDownload a mail-in registration form\nor call 330.701.8780 to register by phone
URL:https://polarityhealthcare.com/event/integrative-massage-therapy-6
LOCATION:Central Florida School of Massage Therapy\, 450 N Lakemont Avenue\, Suite A\, Winter Park \, FL\, 32792\, United States
CATEGORIES:Florida
GEO:28.6016646;-81.326821
X-APPLE-STRUCTURED-LOCATION;VALUE=URI;X-ADDRESS=Central Florida School of Massage Therapy 450 N Lakemont Avenue Suite A Winter Park  FL 32792 United States;X-APPLE-RADIUS=500;X-TITLE=450 N Lakemont Avenue\, Suite A:geo:-81.326821,28.6016646
END:VEVENT
END:VCALENDAR