BEGIN:VCALENDAR
VERSION:2.0
PRODID:-//Polarity Healthcare - ECPv6.15.20//NONSGML v1.0//EN
CALSCALE:GREGORIAN
METHOD:PUBLISH
X-WR-CALNAME:Polarity Healthcare
X-ORIGINAL-URL:https://polarityhealthcare.com
X-WR-CALDESC:Events for Polarity Healthcare
REFRESH-INTERVAL;VALUE=DURATION:PT1H
X-Robots-Tag:noindex
X-PUBLISHED-TTL:PT1H
BEGIN:VTIMEZONE
TZID:America/Detroit
BEGIN:DAYLIGHT
TZOFFSETFROM:-0500
TZOFFSETTO:-0400
TZNAME:EDT
DTSTART:20180311T070000
END:DAYLIGHT
BEGIN:STANDARD
TZOFFSETFROM:-0400
TZOFFSETTO:-0500
TZNAME:EST
DTSTART:20181104T060000
END:STANDARD
BEGIN:DAYLIGHT
TZOFFSETFROM:-0500
TZOFFSETTO:-0400
TZNAME:EDT
DTSTART:20190310T070000
END:DAYLIGHT
BEGIN:STANDARD
TZOFFSETFROM:-0400
TZOFFSETTO:-0500
TZNAME:EST
DTSTART:20191103T060000
END:STANDARD
BEGIN:DAYLIGHT
TZOFFSETFROM:-0500
TZOFFSETTO:-0400
TZNAME:EDT
DTSTART:20200308T070000
END:DAYLIGHT
BEGIN:STANDARD
TZOFFSETFROM:-0400
TZOFFSETTO:-0500
TZNAME:EST
DTSTART:20201101T060000
END:STANDARD
END:VTIMEZONE
BEGIN:VEVENT
DTSTART;TZID=America/Detroit:20190601T083000
DTEND;TZID=America/Detroit:20190602T173000
DTSTAMP:20260420T105024
CREATED:20181111T185754Z
LAST-MODIFIED:20190526T162634Z
UID:2004-1559377800-1559496600@polarityhealthcare.com
SUMMARY:Training Your Touch: Palpation and Manual Assessment
DESCRIPTION:Description:\nYour success in massage therapy depends on your palpation skills yet\, there is little if any focus on that in massage school. Now\, you can expand your skills and increase effectiveness with just two days of training. This seminar blends lecture\, discussion and guided exercises with plenty of hands-on practice to develop and refine your sense of touch. You won’t find better massage CE in Orlando. On the first day\, working with inanimate objects and living tissues\, we adopt strategies from world-renowned educators to increase sensitivity and awareness. Then\, we will use our newly enhanced abilities to evaluate the cardiac pulse and respiratory movements for signs of dysfunction or pathology. On the second day\, our examination of skin\, fascia and muscles will flow seamlessly into treatment with results that will boost your confidence as a therapist. We will also be exploring touch as a way to evaluate the autonomic nervous system and its level of activation. If you expect palpation to be boring\, I think you will be surprised. \nNEW SPECIAL RATE FOR MASSAGE STUDENTS: $150 \nHighlights:\n\nDiscuss the anatomy and physiology of touch\nPractice differentiating various textures and tissues through touch\nLearn specific skills for assessing skin\nLearn specific skills for assessing muscles\nPractice evaluating the cardiac pulse\nPractice evaluating respiratory movements\nLearn to evaluate the nervous system through touch\nLearn about the importance of verbal description in palpation\n\nWhat participants have to say! \nBring:\nA massage table if you have one. Something to write with. Massage clothes so that you can expose arms\, legs and back. Dress in layers (as always) since temperature may be difficult to control. \nContinuing Education: 16 CE hours\n\nNationally Certified Bodyworkers (NCBTMB) and LMT’s in all the states that accept NCBTMB approval\nFlorida and Georgia Massage Therapists (CE Broker Tracking #: 20-610842)\n\n\nRegistration: \nREGISTRATION IS CLOSED FOR THIS CLASS \n\nAlternative methods of signing up:\nDownload a mail-in registration form\nor call 330.701.8780 to register by phone
URL:https://polarityhealthcare.com/event/training-your-touch-palpation-2
LOCATION:Central Florida School of Massage Therapy\, 450 N Lakemont Avenue\, Suite A\, Winter Park \, FL\, 32792\, United States
CATEGORIES:Florida
GEO:28.6016646;-81.326821
X-APPLE-STRUCTURED-LOCATION;VALUE=URI;X-ADDRESS=Central Florida School of Massage Therapy 450 N Lakemont Avenue Suite A Winter Park  FL 32792 United States;X-APPLE-RADIUS=500;X-TITLE=450 N Lakemont Avenue\, Suite A:geo:-81.326821,28.6016646
END:VEVENT
END:VCALENDAR