BEGIN:VCALENDAR
VERSION:2.0
PRODID:-//Polarity Healthcare - ECPv6.15.20//NONSGML v1.0//EN
CALSCALE:GREGORIAN
METHOD:PUBLISH
X-ORIGINAL-URL:https://polarityhealthcare.com
X-WR-CALDESC:Events for Polarity Healthcare
REFRESH-INTERVAL;VALUE=DURATION:PT1H
X-Robots-Tag:noindex
X-PUBLISHED-TTL:PT1H
BEGIN:VTIMEZONE
TZID:America/Detroit
BEGIN:DAYLIGHT
TZOFFSETFROM:-0500
TZOFFSETTO:-0400
TZNAME:EDT
DTSTART:20200308T070000
END:DAYLIGHT
BEGIN:STANDARD
TZOFFSETFROM:-0400
TZOFFSETTO:-0500
TZNAME:EST
DTSTART:20201101T060000
END:STANDARD
BEGIN:DAYLIGHT
TZOFFSETFROM:-0500
TZOFFSETTO:-0400
TZNAME:EDT
DTSTART:20210314T070000
END:DAYLIGHT
BEGIN:STANDARD
TZOFFSETFROM:-0400
TZOFFSETTO:-0500
TZNAME:EST
DTSTART:20211107T060000
END:STANDARD
BEGIN:DAYLIGHT
TZOFFSETFROM:-0500
TZOFFSETTO:-0400
TZNAME:EDT
DTSTART:20220313T070000
END:DAYLIGHT
BEGIN:STANDARD
TZOFFSETFROM:-0400
TZOFFSETTO:-0500
TZNAME:EST
DTSTART:20221106T060000
END:STANDARD
END:VTIMEZONE
BEGIN:VEVENT
DTSTART;TZID=America/Detroit:20210109T090000
DTEND;TZID=America/Detroit:20210109T160000
DTSTAMP:20260425T114254
CREATED:20201121T185947Z
LAST-MODIFIED:20201225T160139Z
UID:3766-1610182800-1610208000@polarityhealthcare.com
SUMMARY:Integrative Bodywork Concepts
DESCRIPTION:Description: This class has been postponed (Always register early). \n\nThis six-hour class is designed to convey a practical understanding of the strategies and mechanisms which underlie an integrative approach to bodywork. Participants will weave the concepts of presence\, grounding\, and self-awareness into evaluation and treatment of fascia\, physiological movement\, and the nervous system. Techniques will be practiced on your own body and on virtual partners in the class. Principles you learn in this seminar will deepen your understanding of hands-on healing\, transform your experience of bodywork\, and boost your clinical results. \nThere are NO PREREQUISITES for this seminar. It will complement and enrich the live\, in-person seminar titled Integrative Massage Therapy. The two classes can be taken in any order. \n\nNOTE: Schedule will include a one-hour break for lunch from 12pm to 1pm \n\nCORE BENEFITS \n\nExpand your understanding and sharpen your skills related to integrative bodywork practice. \nHighlights \nBy participating in this online class\, you will be able to: \n\nDiscuss the science behind therapeutic bodywork\nDiscuss the importance of Grounding and how to practice it\nDefine presence and describe techniques to develop the skill\nDiscuss the interrelationship of structure and function\nList two or more key principles of accurate palpation\nDiscuss key osteopathic concepts that relate to massage therapy.\nDescribe the role of the vagus nerve in massage treatment\nDemonstrate using self-awareness as an assessment tool\n\n\nContinuing Education: 6 CE hours\n“Integrative Bodywork Concepts” is approved for the following: \n\n\n\nNCBTMB certified therapists\nFlorida licensed massage therapists (CE Broker Tracking #: 20-804412)\n\n\n\n\nNOTE: Online classes in Florida count as “General” hours however\,  2020-2021 is a coronavirus exception. Check with your state board to confirm approval for “LIVE” CE hours) \n\n\nRegistration: THIS CLASS IS POSTPONED.\nPlease subscribe to our notification newsletter (Click symbol at bottom of page) if you are interested in future offerings.\n\n\n  \nAlternative methods of signing up:\nDownload a mail-in registration form\nor call 330.701.8780 to register by phone
URL:https://polarityhealthcare.com/event/integrative-bodywork-concepts
LOCATION:ONLINE
CATEGORIES:Online
END:VEVENT
END:VCALENDAR