BEGIN:VCALENDAR
VERSION:2.0
PRODID:-//Polarity Healthcare - ECPv6.15.20//NONSGML v1.0//EN
CALSCALE:GREGORIAN
METHOD:PUBLISH
X-WR-CALNAME:Polarity Healthcare
X-ORIGINAL-URL:https://polarityhealthcare.com
X-WR-CALDESC:Events for Polarity Healthcare
REFRESH-INTERVAL;VALUE=DURATION:PT1H
X-Robots-Tag:noindex
X-PUBLISHED-TTL:PT1H
BEGIN:VTIMEZONE
TZID:America/Detroit
BEGIN:DAYLIGHT
TZOFFSETFROM:-0500
TZOFFSETTO:-0400
TZNAME:EDT
DTSTART:20200308T070000
END:DAYLIGHT
BEGIN:STANDARD
TZOFFSETFROM:-0400
TZOFFSETTO:-0500
TZNAME:EST
DTSTART:20201101T060000
END:STANDARD
BEGIN:DAYLIGHT
TZOFFSETFROM:-0500
TZOFFSETTO:-0400
TZNAME:EDT
DTSTART:20210314T070000
END:DAYLIGHT
BEGIN:STANDARD
TZOFFSETFROM:-0400
TZOFFSETTO:-0500
TZNAME:EST
DTSTART:20211107T060000
END:STANDARD
BEGIN:DAYLIGHT
TZOFFSETFROM:-0500
TZOFFSETTO:-0400
TZNAME:EDT
DTSTART:20220313T070000
END:DAYLIGHT
BEGIN:STANDARD
TZOFFSETFROM:-0400
TZOFFSETTO:-0500
TZNAME:EST
DTSTART:20221106T060000
END:STANDARD
END:VTIMEZONE
BEGIN:VEVENT
DTSTART;TZID=America/Detroit:20210220T130000
DTEND;TZID=America/Detroit:20210220T170000
DTSTAMP:20260425T095815
CREATED:20201122T203251Z
LAST-MODIFIED:20210210T212852Z
UID:3814-1613826000-1613840400@polarityhealthcare.com
SUMMARY:Meridian Massage - Online
DESCRIPTION:This four-hour class focuses on palpating 14 meridians (or pathways) of Chinese medicine. Students will locate and assess meridians on their own bodies. Theory and philosophy is secondary as we employ a practical\, regional approach to learning the meridian pathways. We also address relationship of the meridian system to health\, healing\, and performance. Take advantage of this rare opportunity to develop confidence with meridians by learning their locations\, directions\, and applications to massage therapy. \nThere are NO PREREQUISITES for this seminar. It can stand alone or will complement and enrich our live\, in-person seminar titled The Meridian Connection. The two classes can be taken in any order. \nThis material will also be very much appreciated by practitioners of chi gung or tai chi. The concepts and hands-on techniques are useful for anyone who is interested in meridians and health. \nHighlights:\n\nBe able to name eight or more of fourteen acupuncture meridians\nBe able to locate and trace eight or more of fourteen acupuncture meridians\nBe able to describe the relationship of meridians and their associated muscles\nBe able to discuss the therapeutic applications of meridian massage\nBe able to describe the use of meridians in massage therapy assessment\n\nContinuing Education: 4 CE hours\n“Meridian Massage” is approved for the following: \n\n\n\nNCBTMB certified therapists and LMT’s in states that accept NCBTMB approval.\nMeridian Massage – Online is approved for Florida Massage therapists (CE Broker Tracking #: 20-785416)\nNOTE: Online hours in Florida are considered GENERAL. The 2020-2021 cycle is a coronavirus exception.\nPlease confirm with your board that this class counts as “LIVE” hours.\n\n\n\nRegistration: Register Early! After this class\, I will be taking a break for a few months. Seminars will resume in the Fall.\n\nAlternative methods of signing up:\nDownload a mail-in registration form\nor call 330.701.8780 to register by phone
URL:https://polarityhealthcare.com/event/meridian-massage
LOCATION:ONLINE
CATEGORIES:Online
END:VEVENT
END:VCALENDAR