BEGIN:VCALENDAR
VERSION:2.0
PRODID:-//Polarity Healthcare - ECPv6.15.20//NONSGML v1.0//EN
CALSCALE:GREGORIAN
METHOD:PUBLISH
X-ORIGINAL-URL:https://polarityhealthcare.com
X-WR-CALDESC:Events for Polarity Healthcare
REFRESH-INTERVAL;VALUE=DURATION:PT1H
X-Robots-Tag:noindex
X-PUBLISHED-TTL:PT1H
BEGIN:VTIMEZONE
TZID:America/Detroit
BEGIN:DAYLIGHT
TZOFFSETFROM:-0500
TZOFFSETTO:-0400
TZNAME:EDT
DTSTART:20220313T070000
END:DAYLIGHT
BEGIN:STANDARD
TZOFFSETFROM:-0400
TZOFFSETTO:-0500
TZNAME:EST
DTSTART:20221106T060000
END:STANDARD
BEGIN:DAYLIGHT
TZOFFSETFROM:-0500
TZOFFSETTO:-0400
TZNAME:EDT
DTSTART:20230312T070000
END:DAYLIGHT
BEGIN:STANDARD
TZOFFSETFROM:-0400
TZOFFSETTO:-0500
TZNAME:EST
DTSTART:20231105T060000
END:STANDARD
BEGIN:DAYLIGHT
TZOFFSETFROM:-0500
TZOFFSETTO:-0400
TZNAME:EDT
DTSTART:20240310T070000
END:DAYLIGHT
BEGIN:STANDARD
TZOFFSETFROM:-0400
TZOFFSETTO:-0500
TZNAME:EST
DTSTART:20241103T060000
END:STANDARD
END:VTIMEZONE
BEGIN:VEVENT
DTSTART;TZID=America/Detroit:20230401T090000
DTEND;TZID=America/Detroit:20230401T160000
DTSTAMP:20260423T202236
CREATED:20230303T023439Z
LAST-MODIFIED:20230319T204132Z
UID:4779-1680339600-1680364800@polarityhealthcare.com
SUMMARY:The Art and Science of Stress Relief
DESCRIPTION:Save $50 with this special (and rare) discounted rate!  [REGISTRATION IS CLOSED] \nThe six-hour\, live-online class is designed to give bodyworkers a solid understanding of the stress response and specific guidance on how to influence the autonomic nervous system through integrative massage therapy. Topics will include an introduction to the vagus nerve\, its clinical importance\, and practical ways to work with it. \nParticipants will learn hands-on techniques as well as self-help information that could serve as client education. Everyone who completes the class will have tools to quickly shift out of fight or flight mode and the knowledge to build resilience against the future effects of excessive stress. Imagine how useful that will be in your own life! \nCORE BENEFITS\nDevelop basic skill at recognizing\, understanding\, and controlling the stress response through integrative bodywork. \nWHY TAKE THIS SIX-HOUR CLASS?\nBy participating in this online class\, you will be able to: \n\nDiscuss the anatomy and physiology of the stress  response\nDescribe grounding and earthing to reduce stress in minutes\nDemonstrate breathing techniques to shift out of fight or flight mode\nDiscuss the importance of the vagus nerve in stress and relaxation\nDemonstrate touch with presence to activate the parasympathetic nervous system\nPerform movement techniques and mindful acupressure to improve brain function\nDiscuss two or more lifestyle changes that could protect us from stress and illness\nDiscuss the role of mindfulness in health\, relaxation\, and bodywork\n\nFEE\n$75 Early Registration Rate! (Regular cost is $125) \nCONTINUING EDUCATION: 6 CE HOURS\n“The Art & Science of Stress Relief” is approved for the following: \n\nNCBTMB certified therapists and LMT’s in states that accept NCBTMB approval.\nFlorida licensed massage therapists (CE Broker Tracking #: 20-710335)\n(Online classes in Florida count as “General” hours)\n\n\n\nRegistration: \n\n\nCLASS IS FULL. EMAIL CONTACT INFORMATION TO BE NOTIFIED WHEN IT IS OFFERED AGAIN.\n \nAlternative methods of signing up:\nDownload a mail-in registration form\nor call 330.701.8780 to register by phone
URL:https://polarityhealthcare.com/event/the-art-and-science-of-stress-relief
LOCATION:ONLINE
CATEGORIES:Online
END:VEVENT
END:VCALENDAR