BEGIN:VCALENDAR
VERSION:2.0
PRODID:-//Polarity Healthcare - ECPv6.15.20//NONSGML v1.0//EN
CALSCALE:GREGORIAN
METHOD:PUBLISH
X-WR-CALNAME:Polarity Healthcare
X-ORIGINAL-URL:https://polarityhealthcare.com
X-WR-CALDESC:Events for Polarity Healthcare
REFRESH-INTERVAL;VALUE=DURATION:PT1H
X-Robots-Tag:noindex
X-PUBLISHED-TTL:PT1H
BEGIN:VTIMEZONE
TZID:America/Detroit
BEGIN:DAYLIGHT
TZOFFSETFROM:-0500
TZOFFSETTO:-0400
TZNAME:EDT
DTSTART:20220313T070000
END:DAYLIGHT
BEGIN:STANDARD
TZOFFSETFROM:-0400
TZOFFSETTO:-0500
TZNAME:EST
DTSTART:20221106T060000
END:STANDARD
BEGIN:DAYLIGHT
TZOFFSETFROM:-0500
TZOFFSETTO:-0400
TZNAME:EDT
DTSTART:20230312T070000
END:DAYLIGHT
BEGIN:STANDARD
TZOFFSETFROM:-0400
TZOFFSETTO:-0500
TZNAME:EST
DTSTART:20231105T060000
END:STANDARD
BEGIN:DAYLIGHT
TZOFFSETFROM:-0500
TZOFFSETTO:-0400
TZNAME:EDT
DTSTART:20240310T070000
END:DAYLIGHT
BEGIN:STANDARD
TZOFFSETFROM:-0400
TZOFFSETTO:-0500
TZNAME:EST
DTSTART:20241103T060000
END:STANDARD
END:VTIMEZONE
BEGIN:VEVENT
DTSTART;TZID=America/Detroit:20230924T190000
DTEND;TZID=America/Detroit:20230924T200000
DTSTAMP:20260423T143237
CREATED:20210902T194756Z
LAST-MODIFIED:20230911T135314Z
UID:4289-1695582000-1695585600@polarityhealthcare.com
SUMMARY:Stress Busting Secrets (One-Hour Version)
DESCRIPTION:Feeling stressed? This live-online class may help. I will share some of the most practical techniques that I have learned through years of study in counseling psychology and decades of work in massage therapy. You will learn integrative\, hands-on procedures to shift out of fight or flight mode as well how to relax through breathing and movement. This information can be used for self-care\, helping clients\, or supporting a loved one. To make it even better\, I streamlined the class to one hour and reduced the cost to $10. \nDo you complain about lack of good sleep\, chronic pain\, inflammation\, or fatigue? These could all be the result of excessive stress\, and the solution can begin with this seminar. Whatever your age\, occupation\, physical condition\, or stress level\, you can begin to transform the way you feel right now\, and help others to do the same. \nThis class is affordable and accessible because now\, more than ever\, everyone needs it. For just ten dollars\, you can have one full hour of health education and self-care that could change your life. Please join us! \nNo Prerequisites! This self-care class is open to everyone. \nCORE BENEFITS\nDevelop basic skill at recognizing\, understanding and controlling your stress response.\nUse hands-on techniques to reduce stress.\nLearn to use breathing and movement to relax your nervous system. \nWHY TAKE THIS ONE-HOUR CLASS?\nBy participating in this class\, you will be able to: \n\nbetter understand stress and how it works\nrecognize the signs and symptoms of excessive stress\nuse breathing techniques to shift out of fight or flight\ndemonstrate grounding and acupressure to reduce stress in minutes\ndemonstrate movement to rebalance the nervous system\ndevelop mindful habits that protect you from stress and illness\n\nFEE\n$10 (Special Rate!) \nCONTINUING EDUCATION: NONE – (ONLY THE TWO-HOUR VERSION OFFERS CE CREDITS)\n\n\n\nREGISTRATION\n\nSorry. This class is full. \n  \nAlternative methods of signing up:\nDownload a mail-in registration form\nor call 330.701.8780 to register by phone
URL:https://polarityhealthcare.com/event/stress-busting-secrets-2
LOCATION:ONLINE
CATEGORIES:Online
END:VEVENT
END:VCALENDAR