BEGIN:VCALENDAR
VERSION:2.0
PRODID:-//Polarity Healthcare - ECPv6.15.20//NONSGML v1.0//EN
CALSCALE:GREGORIAN
METHOD:PUBLISH
X-ORIGINAL-URL:https://polarityhealthcare.com
X-WR-CALDESC:Events for Polarity Healthcare
REFRESH-INTERVAL;VALUE=DURATION:PT1H
X-Robots-Tag:noindex
X-PUBLISHED-TTL:PT1H
BEGIN:VTIMEZONE
TZID:America/Detroit
BEGIN:DAYLIGHT
TZOFFSETFROM:-0500
TZOFFSETTO:-0400
TZNAME:EDT
DTSTART:20240310T070000
END:DAYLIGHT
BEGIN:STANDARD
TZOFFSETFROM:-0400
TZOFFSETTO:-0500
TZNAME:EST
DTSTART:20241103T060000
END:STANDARD
BEGIN:DAYLIGHT
TZOFFSETFROM:-0500
TZOFFSETTO:-0400
TZNAME:EDT
DTSTART:20250309T070000
END:DAYLIGHT
BEGIN:STANDARD
TZOFFSETFROM:-0400
TZOFFSETTO:-0500
TZNAME:EST
DTSTART:20251102T060000
END:STANDARD
BEGIN:DAYLIGHT
TZOFFSETFROM:-0500
TZOFFSETTO:-0400
TZNAME:EDT
DTSTART:20260308T070000
END:DAYLIGHT
BEGIN:STANDARD
TZOFFSETFROM:-0400
TZOFFSETTO:-0500
TZNAME:EST
DTSTART:20261101T060000
END:STANDARD
END:VTIMEZONE
BEGIN:VEVENT
DTSTART;TZID=America/Detroit:20250111T083000
DTEND;TZID=America/Detroit:20250112T173000
DTSTAMP:20260424T114428
CREATED:20240309T222653Z
LAST-MODIFIED:20240312T000037Z
UID:4952-1736584200-1736703000@polarityhealthcare.com
SUMMARY:The Meridian Connection
DESCRIPTION:What if you could skip the non-essentials\, simplify the philosophy\, and focus on material you will be able to use in your office on Monday morning?  If that sounds appealing\, join us! This two-day seminar will take the mystery out of meridians. \nWe focus on applying acupuncture concepts to massage therapy assessment and treatment. You will become familiar with some acupuncture points but the real emphasis is on the meridian itself. You will learn to trace fourteen meridians from memory and discuss the associated muscles\, organs\, emotions\, and pathologies. \nExpect to become comfortable locating acupressure points as well as using combinations of points to treat meridians\, organs and systems. We will use intention as well as physical stimulation in this approach. Our own personal meridian systems will be balanced several times throughout the weekend and we will finish by practicing assessment and treatment in triads. If you keep hearing about meridians and wish you understood them better\, this is a rare opportunity to increase your confidence and therapeutic effectiveness by spending two days immersed in them. \nThis material will be especially appreciated by practitioners of chi gung\, tai chi\, or Touch For Health Kinesiology. The practical concepts and hands-on techniques are useful for anyone who is interested in meridians and health. \nCORE BENEFITS\nDevelop basic skill at locating\, evaluating and treating 14 meridian channels from traditional Chinese medicine.\nDevelop basic skill at locating\, evaluating and treating major acupuncture points. \nWHY TAKE THIS TWO-DAY CLASS?\nBy participating in this class\, you will: \n\nLearn to locate and trace fourteen acupuncture meridians\nLearn a technique called “meridian walking” for acute pain\nStudy muscles\, organs\, emotions and pathologies relating to each meridian\nLearn how to use meridians in clinical assessment\nLearn how to treat meridian imbalance with massage techniques\nLearn how acupuncture concepts apply to any clinical bodywork practice\nPractice meridian exercises and self-treatment\nPractice locating\, evaluating\, and treating acupuncture points\nLearn to use entry and exit points for balancing meridians\nLearn how to use front mu (alarm) points and back shu points to treat organs\nLearn the most powerful treatment points for common conditions\nLearn how to easily integrate acupuncture points into massage practice\n\nFEE\n$350 early registration (includes manual) – before Dec. 15\, 2024 \nCONTINUING EDUCATION: 16 CONTACT HOURS\n“The Meridian Connection” is approved for the following: \n\nNCBTMB certified therapists and LMT’s in states that accept NCBTMB approval.\nFlorida Massage Therapists (CE Broker Tracking #: 20-591507)\n\nREGISTRATION\nRegister through the Pittsburgh School of Massage Therapy
URL:https://polarityhealthcare.com/event/the-meridian-connection-2
LOCATION:Pittsburgh School of Massage Therapy\, 3600 Laketon Road\, Pittsburgh\, PA\, 15235\, United States
CATEGORIES:Pennsylvania
GEO:40.4592183;-79.8437852
X-APPLE-STRUCTURED-LOCATION;VALUE=URI;X-ADDRESS=Pittsburgh School of Massage Therapy 3600 Laketon Road Pittsburgh PA 15235 United States;X-APPLE-RADIUS=500;X-TITLE=3600 Laketon Road:geo:-79.8437852,40.4592183
END:VEVENT
END:VCALENDAR