BEGIN:VCALENDAR
VERSION:2.0
PRODID:-//Polarity Healthcare - ECPv6.15.20//NONSGML v1.0//EN
CALSCALE:GREGORIAN
METHOD:PUBLISH
X-WR-CALNAME:Polarity Healthcare
X-ORIGINAL-URL:https://polarityhealthcare.com
X-WR-CALDESC:Events for Polarity Healthcare
REFRESH-INTERVAL;VALUE=DURATION:PT1H
X-Robots-Tag:noindex
X-PUBLISHED-TTL:PT1H
BEGIN:VTIMEZONE
TZID:America/Detroit
BEGIN:DAYLIGHT
TZOFFSETFROM:-0500
TZOFFSETTO:-0400
TZNAME:EDT
DTSTART:20230312T070000
END:DAYLIGHT
BEGIN:STANDARD
TZOFFSETFROM:-0400
TZOFFSETTO:-0500
TZNAME:EST
DTSTART:20231105T060000
END:STANDARD
BEGIN:DAYLIGHT
TZOFFSETFROM:-0500
TZOFFSETTO:-0400
TZNAME:EDT
DTSTART:20240310T070000
END:DAYLIGHT
BEGIN:STANDARD
TZOFFSETFROM:-0400
TZOFFSETTO:-0500
TZNAME:EST
DTSTART:20241103T060000
END:STANDARD
BEGIN:DAYLIGHT
TZOFFSETFROM:-0500
TZOFFSETTO:-0400
TZNAME:EDT
DTSTART:20250309T070000
END:DAYLIGHT
BEGIN:STANDARD
TZOFFSETFROM:-0400
TZOFFSETTO:-0500
TZNAME:EST
DTSTART:20251102T060000
END:STANDARD
END:VTIMEZONE
BEGIN:VEVENT
DTSTART;TZID=America/Detroit:20240907T083000
DTEND;TZID=America/Detroit:20240908T173000
DTSTAMP:20260424T200717
CREATED:20230429T204516Z
LAST-MODIFIED:20240424T225111Z
UID:4805-1725697800-1725816600@polarityhealthcare.com
SUMMARY:The Craniosacral Connection
DESCRIPTION:The Craniosacral Connection is a mix of lecture\, demonstration and hands-on practice designed to teach you the benefits of craniosacral therapy along with the power of mindful palpation. We focus on integration of craniosacral techniques into massage therapy practice. \nIn this class\, you will develop and/or refine your light-touch palpation skills by learning how to palpate and evaluate the craniosacral rhythm\, a physiological movement affecting the entire body. You will also learn how to locate subtle restrictions in the nervous system and correct those restrictions using gentle myofascial techniques. This 16-hour experience could transform the way you look at bodywork! \n  \nCORE BENEFITS\nRefine light touch palpation skills and learn myofascial unwinding techniques. \nGain an understanding of the craniosacral system and its role in health. \nLearn specific protocols to treat the dual tube and the sacrum \n  \nWHY TAKE THIS TWO-DAY CLASS?\nBy participating in this class\, you will: \nDevelop and refine your light-touch palpation skills\nStudy the anatomy and physiology of the craniosacral system\nDiscover the power of intentional touch on the autonomic nervous system\nLearn and practice palpating key body locations where craniosacral motion can best be evaluated\nLearn and practice tissue release techniques for the transverse diaphragms\nLearn and practice: mobilizing the sacrum; the dural tube rock and dural tube glide; and stillpoint induction\nLearn how to integrate cranial work into clinical massage therapy\nGain an excellent preparation for future CST training\nReceive 16 hours of continuing education approved by NCBTMB and FL Board of Massage\nWhat participants have to say! \n  \nINSTRUCTOR\nRandall Gibson\, M.Ed.\, LMT\, CST \n  \nFEE\n$350 early registration (includes manual)  /  Early registration rate applies until 8/17/24 \n  \nCONTINUING EDUCATION: 16 CONTACT HOURS  (CE credits for this seminar are provided by Polarity Healthcare) \nThe Craniosacral Connection is approved for the following: \nNationally Certified Bodyworkers (NCBTMB) and LMT’s in all the states that accept NCBTMB approval\nFlorida Massage Therapists (CE Broker Tracking #: 20-680034) \n  \nREGISTRATION \nRegister online at the Pittsburgh School of Massage Therapy
URL:https://polarityhealthcare.com/event/the-craniosacral-connection
LOCATION:Pittsburgh School of Massage Therapy\, 3600 Laketon Road\, Pittsburgh\, PA\, 15235\, United States
CATEGORIES:Pennsylvania
GEO:40.4592183;-79.8437852
X-APPLE-STRUCTURED-LOCATION;VALUE=URI;X-ADDRESS=Pittsburgh School of Massage Therapy 3600 Laketon Road Pittsburgh PA 15235 United States;X-APPLE-RADIUS=500;X-TITLE=3600 Laketon Road:geo:-79.8437852,40.4592183
END:VEVENT
END:VCALENDAR