BEGIN:VCALENDAR
VERSION:2.0
PRODID:-//Polarity Healthcare - ECPv6.15.20//NONSGML v1.0//EN
CALSCALE:GREGORIAN
METHOD:PUBLISH
X-ORIGINAL-URL:https://polarityhealthcare.com
X-WR-CALDESC:Events for Polarity Healthcare
REFRESH-INTERVAL;VALUE=DURATION:PT1H
X-Robots-Tag:noindex
X-PUBLISHED-TTL:PT1H
BEGIN:VTIMEZONE
TZID:America/Detroit
BEGIN:DAYLIGHT
TZOFFSETFROM:-0500
TZOFFSETTO:-0400
TZNAME:EDT
DTSTART:20250309T070000
END:DAYLIGHT
BEGIN:STANDARD
TZOFFSETFROM:-0400
TZOFFSETTO:-0500
TZNAME:EST
DTSTART:20251102T060000
END:STANDARD
BEGIN:DAYLIGHT
TZOFFSETFROM:-0500
TZOFFSETTO:-0400
TZNAME:EDT
DTSTART:20260308T070000
END:DAYLIGHT
BEGIN:STANDARD
TZOFFSETFROM:-0400
TZOFFSETTO:-0500
TZNAME:EST
DTSTART:20261101T060000
END:STANDARD
BEGIN:DAYLIGHT
TZOFFSETFROM:-0500
TZOFFSETTO:-0400
TZNAME:EDT
DTSTART:20270314T070000
END:DAYLIGHT
BEGIN:STANDARD
TZOFFSETFROM:-0400
TZOFFSETTO:-0500
TZNAME:EST
DTSTART:20271107T060000
END:STANDARD
END:VTIMEZONE
BEGIN:VEVENT
DTSTART;TZID=America/Detroit:20260912T083000
DTEND;TZID=America/Detroit:20260913T173000
DTSTAMP:20260421T111136
CREATED:20251007T154009Z
LAST-MODIFIED:20251009T145938Z
UID:5046-1789201800-1789320600@polarityhealthcare.com
SUMMARY:Training Your Touch 2: Following the Fascia
DESCRIPTION:Are you ready for the next step in refining your skills? After a quick overview of Training Your Touch: Advanced Palpation Skills (Which is NOT a prerequisite for this class)\, we will practice palpating and assessing physiological movement in the body. Then we begin evaluating the fascial network at key locations to identify stress or dysfunction. Topics will include osteopathic concepts that relate to our therapy methods\, and how to apply those concepts in assessment and treatment. I believe that understanding the relationship between concept and technique is key to obtaining optimal results. \nThe second day begins with grounding and centering to refine our perception. Then we mindfully assess tension patterns and fascial pulls in the lower extremities\, upper extremities\, and torso. By applying what we have learned to different layers of tissue\, we will literally be “following the fascia” to the dominant restriction. Finally\, we pull everything together to practice assessment and treatment. This training will expand your skill in any method of bodywork. \nPrerequisites: NONE. The class is open to everyone. (Two or more years of hands-on experience is recommended) \nCore benefits\nLearn advanced manual assessment strategies and fascial evaluation techniques\nUnderstand key principles of effective assessment and treatment \nWhy take this two-day class?\nAfter participating in this class\, you will be able to: \n\nDiscuss the importance of grounding before assessment\nDescribe the role of mindfulness in palpation\nDemonstrate one or more techniques for relaxing the nervous system\nDiscuss how to enhance palpation skills for assessment and treatment\nDemonstrate using touch to evaluate sympathetic activation\nDiscuss the Osteopathic concept of “The Body Hugs the Lesion”\nDemonstrate identification of postural strain patterns through touch\nDiscuss the importance of fascia in manual assessment\nDiscuss the potential role of interoception in assessment\nPerform three or more assessment techniques at the feet and ankles\nDemonstrate how assessment can merge into treatment\nDiscuss the concept of “inhibition”\nDescribe how to use rhythms and micro-movements in assessment and treatment\nDemonstrate how to apply inhibition to orthopedic testing\nDemonstrate fascial assessment of the upper extremities\, lower extremities\, and back\nDemonstrate “following the fascia’ in both assessment and treatment\n\nFee\n$350 Early Registration Price before August 29 (includes study guide) $395 after August 29 \nContinuing Education: 16 Contact Hours\n“Training Your Touch 2: Following the Fascia” is approved for the following: \n\nNCBTMB certified therapists (and LMT’s in states that accept NCBTMB approval)\nMassage therapists in Florida and Georgia (CE Broker Tracking #: 20-747062)\n\n\n\n                \n                        \n							"*" indicates required fields \n                        \n                        \nSecure Online Registration with PayPal\n\n\nRegistration Type*Register Early (350\,- USD) by August 29Register Late (395\,- USD) after August 29I can bring a table to the class*YesNoI need Continuing Education hours for this event*YesNoName*\n                            \n                            \n                                                    \n                                                    First\n                                                \n                            \n                            \n                                                    \n                                                    Last\n                                                \n                            \n                        Email*\n                            \n                        Phone*Address*    \n                    \n                         \n                                        \n                                        Street Address\n                                    \n                                        \n                                        Address Line 2\n                                    \n                                    \n                                    City\n                                 \n                                        AlabamaAlaskaAmerican SamoaArizonaArkansasCaliforniaColoradoConnecticutDelawareDistrict of ColumbiaFloridaGeorgiaGuamHawaiiIdahoIllinoisIndianaIowaKansasKentuckyLouisianaMaineMarylandMassachusettsMichiganMinnesotaMississippiMissouriMontanaNebraskaNevadaNew HampshireNew JerseyNew MexicoNew YorkNorth CarolinaNorth DakotaNorthern Mariana IslandsOhioOklahomaOregonPennsylvaniaPuerto RicoRhode IslandSouth CarolinaSouth DakotaTennesseeTexasUtahU.S. Virgin IslandsVermontVirginiaWashingtonWest VirginiaWisconsinWyomingArmed Forces AmericasArmed Forces EuropeArmed Forces Pacific\n                                        State\n                                      \n                                    \n                                    ZIP Code\n                                \n                    \n                Profession & License Number (may be provided later)Payment Method*PayPal CheckoutCredit Card\n                                    MasterCardVisaSupported Credit Cards: MasterCard\, Visa\n                                    \n                                    Card Number\n                                 \n                                            \n                                                \n                                                Expiration Date\n                                            \n                                                \n                                                 \n                                                Security Code\n                                             \n                                        \n                                            \n                                            Cardholder Name
URL:https://polarityhealthcare.com/event/training-your-touch-2-following-the-fascia-4
LOCATION:Georgia Massage School\, 2800 Horizon Ridge Court Suite 275\, Suwanee\, GA\, 30024\, United States
CATEGORIES:Georgia
GEO:34.0327721;-84.0315916
X-APPLE-STRUCTURED-LOCATION;VALUE=URI;X-ADDRESS=Georgia Massage School 2800 Horizon Ridge Court Suite 275 Suwanee GA 30024 United States;X-APPLE-RADIUS=500;X-TITLE=2800 Horizon Ridge Court Suite 275:geo:-84.0315916,34.0327721
END:VEVENT
END:VCALENDAR